BEGIN:VCALENDAR
VERSION:2.0
PRODID:-//http://influence.org.nz///NONSGML kigkonsult.se iCalcreator 2.10.15//
METHOD:PUBLISH
BEGIN:VEVENT
UID:20180124T220314EST-24868vulbu@http://influence.org.nz/
DTSTAMP:20180125T030314Z
DESCRIPTION:\nNew Zealand &amp\; Beyond Conference by Church Unlimited (Ps 
 Tak Bhana)\, hosted at La Vida Centre.\nGuest Speakers: Alan Scott (Northe
 rn Ireland)\, Mike Pilavachi (UK)\, Joel Holm (USA)\, Tak Bhana (NZ)\, Jod
 i Tolley (NZ)'Our theme for this conference is 'Suddenly' which is based o
 n a prophetic word God has given us. Acts 2:2 says\, 'And suddenly there c
 ame a sound from heaven\, as of a rushing mighty wind\, and it filled the 
 whole house where they were sitting.' We are praying that God will suddenl
 y come and pour out His Spirit on us as we gather together.\nNew Zealand d
 esperately needs a move of the Holy Spirit\, one that will both enable us 
 to see multitudes saved in this nation\, and commmission us to take the go
 spel to the nations of the world. It's high time for a 'suddenly'.' (Ps Ta
 k Bhana) http://influence.org.nz/calendar/event/44-nz-beyond-conference
DTSTART:20180416T213000Z
DTEND:20180417T093000Z
LOCATION:La Vida\, 34a Hansons Lane\, Upper Riccarton (34a Hansons Lane\, U
 pper Riccarton\, Christchurch)
SUMMARY:NZ & Beyond Conference
URL:http://influence.org.nz/calendar/event/44-nz-beyond-conference
END:VEVENT
END:VCALENDAR
