BEGIN:VCALENDAR
VERSION:2.0
PRODID:-//https://influence.org.nz///NONSGML kigkonsult.se iCalcreator 2.10.15//
METHOD:PUBLISH
BEGIN:VEVENT
UID:20191219T122445EST-0953UGAuTr@https://influence.org.nz/
DTSTAMP:20191219T172445Z
DESCRIPTION:A four nightly dramatization of the nativity story\, Experience
  an outdoor walk-through theatrical presentation that brings to life the t
 rue story of Christmas. Each session lasts 30 minutes. The first session s
 tarts each night at 6:30pm and the last session starts at 8:00pm.\nDecembe
 r 16 - 19 Monday to Thursday. Tickets are free but you need to register on
 line at www.roadtobethlehem as their is limited space.Event held in the gr
 ounds of the Christchurch Adventist School - 15 Grants Road\, Papanui\, Ch
 ristchurch\n https://influence.org.nz/calendar/event/308-road-to-bethlehem
DTSTART:20191219T053000Z
DTEND:20191219T073000Z
LOCATION:Christchurch Adventist School (15 Grants Road\, Papanui\, Christch
 urch 8053\, New Zealand)
SUMMARY:Road To Bethlehem
URL:https://influence.org.nz/calendar/event/308-road-to-bethlehem
END:VEVENT
END:VCALENDAR
