BEGIN:VCALENDAR
VERSION:2.0
PRODID:-//https://influence.org.nz///NONSGML kigkonsult.se iCalcreator 2.10.15//
METHOD:PUBLISH
BEGIN:VEVENT
UID:20191219T122527EST-1702B2Emcv@https://influence.org.nz/
DTSTAMP:20191219T172527Z
DESCRIPTION:Join us for our special Christmas Eve service at 7pm on Tuesday
  24th December\, as we celebrate the true reason for the season\, with car
 ols and a message of hope to the world through Jesus.Please note\, there i
 s no Christmas Day service at City.Website:&nbsp\;https://city.org.nz/\n h
 ttps://influence.org.nz/upcoming-events/event/302-christmas-eve-service
DTSTART:20191224T060000Z
DTEND:20191224T070000Z
LOCATION:City Church (346 Manchester St\, Christchurch Central City\, Chris
 tchurch 8013\, New Zealand)
SUMMARY:Christmas Eve Service
URL:https://influence.org.nz/upcoming-events/event/302-christmas-eve-servic
 e
END:VEVENT
BEGIN:VEVENT
UID:20191219T122527EST-1705Kokzco@https://influence.org.nz/
DTSTAMP:20191219T172527Z
DESCRIPTION:This Christmas\, at our church\, we are presenting to the publi
 c a Christmas story with a difference. Rather than being about the birth o
 f Christ\, this presentation is about the birth of Christianity in Aotearo
 a New Zealand. It tells of the circumstances that led to the relationship 
 between Samuel Marsdsen and Ngapuhi Chief Ruatara which led to the first C
 hristmas Day presented to the tangata whenua on 25 December\, 1814. The pr
 esentation is mostly a narrative\, interspersed with songs\, short e-enact
 ments and overhead images. It will be followed by a sharing a few carols t
 ogether and finishing with a light supper. https://influence.org.nz/upcomi
 ng-events/event/309-te-harinui
DTSTART:20191221T063000Z
DTEND:20191221T083000Z
LOCATION:Seventh-day Adventist Church (26 Ilam Road\, Upper Riccarton\, Chr
 istchurch 8041\, New Zealand)
SUMMARY:Te Harinui
URL:https://influence.org.nz/upcoming-events/event/309-te-harinui
END:VEVENT
BEGIN:VEVENT
UID:20191219T122527EST-1709r00lwW@https://influence.org.nz/
DTSTAMP:20191219T172527Z
DESCRIPTION:Be an effective influencer for Christ in your home\, workplace 
 and world with our special 5-week sermon series exploring key characters f
 rom the Bible who overcame adversity and shaped change.Join us for our spe
 cial Influencers Sermon Series every Sunday from the 15th December to 12th
  January at 10am.\n https://influence.org.nz/upcoming-events/event/313-inf
 luencers-sermon-series
DTSTART:20191221T210000Z
DTEND:20191222T103000Z
LOCATION:City Church (346 Manchester St\, Christchurch Central City\, Chris
 tchurch 8013\, New Zealand)
SUMMARY:Influencers Sermon Series
URL:https://influence.org.nz/upcoming-events/event/313-influencers-sermon-s
 eries
END:VEVENT
BEGIN:VEVENT
UID:20191219T122527EST-1711Paivuz@https://influence.org.nz/
DTSTAMP:20191219T172527Z
DESCRIPTION:Be an effective influencer for Christ in your home\, workplace 
 and world with our special 5-week sermon series exploring key characters f
 rom the Bible who overcame adversity and shaped change.Join us for our spe
 cial Influencers Sermon Series every Sunday from the 15th December to 12th
  January at 10am.\n https://influence.org.nz/upcoming-events/event/314-inf
 luencers-sermon-series
DTSTART:20191228T210000Z
DTEND:20191229T103000Z
LOCATION:City Church (346 Manchester St\, Christchurch Central City\, Chris
 tchurch 8013\, New Zealand)
SUMMARY:Influencers Sermon Series
URL:https://influence.org.nz/upcoming-events/event/314-influencers-sermon-s
 eries
END:VEVENT
BEGIN:VEVENT
UID:20191219T122527EST-1714ueVmpX@https://influence.org.nz/
DTSTAMP:20191219T172527Z
DESCRIPTION:Be an effective influencer for Christ in your home\, workplace 
 and world with our special 5-week sermon series exploring key characters f
 rom the Bible who overcame adversity and shaped change.Join us for our spe
 cial Influencers Sermon Series every Sunday from the 15th December to 12th
  January at 10am.\n https://influence.org.nz/upcoming-events/event/315-inf
 luencers-sermon-series
DTSTART:20200104T210000Z
DTEND:20200105T103000Z
LOCATION:City Church (346 Manchester St\, Christchurch Central City\, Chris
 tchurch 8013\, New Zealand)
SUMMARY:Influencers Sermon Series
URL:https://influence.org.nz/upcoming-events/event/315-influencers-sermon-s
 eries
END:VEVENT
BEGIN:VEVENT
UID:20191219T122527EST-1716uofRNa@https://influence.org.nz/
DTSTAMP:20191219T172527Z
DESCRIPTION:Be an effective influencer for Christ in your home\, workplace 
 and world with our special 5-week sermon series exploring key characters f
 rom the Bible who overcame adversity and shaped change.Join us for our spe
 cial Influencers Sermon Series every Sunday from the 15th December to 12th
  January at 10am.\n https://influence.org.nz/upcoming-events/event/316-inf
 luencers-sermon-series
DTSTART:20200111T210000Z
DTEND:20200112T103000Z
LOCATION:City Church (346 Manchester St\, Christchurch Central City\, Chris
 tchurch 8013\, New Zealand)
SUMMARY:Influencers Sermon Series
URL:https://influence.org.nz/upcoming-events/event/316-influencers-sermon-s
 eries
END:VEVENT
BEGIN:VEVENT
UID:20191219T122527EST-1718FWTBHF@https://influence.org.nz/
DTSTAMP:20191219T172527Z
DESCRIPTION:The Holy Bible will be read from Genesis to Revelation simultan
 eously at five locations across Christchurch. Readers can book their prefe
 rred time slots at&nbsp\;www.shekinah.org.nz. You can bring your personal 
 Bibles and read in a language of your choice. The non-stop Marathon will b
 egin at 5am on 27th December and will be live-streamed on the Shekinah web
 site and also on Facebook Live. For more details about venues and availabl
 e time slots\, visit&nbsp\;www.shekinah.org.nz\n https://influence.org.nz/
 upcoming-events/event/319-non-stop-bible-reading-marathon
DTSTART:20191226T160000Z
DTEND:20191227T090000Z
LOCATION:Christchurch ()
SUMMARY:Non-stop Bible Reading Marathon
URL:https://influence.org.nz/upcoming-events/event/319-non-stop-bible-readi
 ng-marathon
END:VEVENT
BEGIN:VEVENT
UID:20191219T122527EST-1721tBZwBE@https://influence.org.nz/
DTSTAMP:20191219T172527Z
DESCRIPTION:The event is to come together as a Church\, in unity with all i
 ts ethnic diversity\, to celebrate God's goodness and to bless the city of
  Christchurch.\n https://influence.org.nz/upcoming-events/event/320-new-ye
 ar-s-eve-thanksgiving-event
DTSTART:20191231T080000Z
DTEND:20191231T110000Z
LOCATION:Christchurch Art Gallery (Montreal Street\, Christchurch 8013\, Ne
 w Zealand)
SUMMARY:New Year's Eve Thanksgiving event
URL:https://influence.org.nz/upcoming-events/event/320-new-year-s-eve-thank
 sgiving-event
END:VEVENT
BEGIN:VEVENT
UID:20191219T122527EST-1723u3ucov@https://influence.org.nz/
DTSTAMP:20191219T172527Z
DESCRIPTION:Summer School Conference with special guest speakers Dr. Bill &
 amp\; Sylvie Sudduth from Virginia\, USA.\nAlso Hon. Alfred Ngaro M.P. and
  Elliot Ikilei\, and Stephanie Harawira sharing&nbsp\; 2020 Vision Christi
 ans &amp\; Politics.\nChristchurch Monday 13th Jan. 9.30am to 5.30pm &amp\
 ; Tuesday 14th Jan. 9.30am to 5.30pm. Book or turn up on the day.\n https:
 //influence.org.nz/upcoming-events/event/321-liberty-down-under-summer-sch
 ool-conference
DTSTART:20200112T203000Z
DTEND:20200114T043000Z
LOCATION:Avonhead Baptist Church (102 Avonhead Road\, Avonhead\, Christchur
 ch 8042\, New Zealand)
SUMMARY:Liberty Down Under Summer School Conference
URL:https://influence.org.nz/upcoming-events/event/321-liberty-down-under-s
 ummer-school-conference
END:VEVENT
BEGIN:VEVENT
UID:20191219T122527EST-1726UTRl17@https://influence.org.nz/
DTSTAMP:20191219T172527Z
DESCRIPTION: https://influence.org.nz/upcoming-events/event/326-carols-by-c
 andlelight
DTSTART:20191224T080000Z
DTEND:20191224T100000Z
LOCATION:Victoria Square (Victoria Square\, Christchurch Central City\, Chr
 istchurch 8011\, New Zealand)
SUMMARY:Carols by Candlelight
URL:https://influence.org.nz/upcoming-events/event/326-carols-by-candleligh
 t
END:VEVENT
END:VCALENDAR
